BEGIN:VCALENDAR
VERSION:2.0
PRODID:-//Indivisible Central Michigan - ECPv6.15.18//NONSGML v1.0//EN
CALSCALE:GREGORIAN
METHOD:PUBLISH
X-ORIGINAL-URL:https://indivisiblecentralmichigan.org
X-WR-CALDESC:Events for Indivisible Central Michigan
REFRESH-INTERVAL;VALUE=DURATION:PT1H
X-Robots-Tag:noindex
X-PUBLISHED-TTL:PT1H
BEGIN:VTIMEZONE
TZID:America/Detroit
BEGIN:DAYLIGHT
TZOFFSETFROM:-0500
TZOFFSETTO:-0400
TZNAME:EDT
DTSTART:20240310T070000
END:DAYLIGHT
BEGIN:STANDARD
TZOFFSETFROM:-0400
TZOFFSETTO:-0500
TZNAME:EST
DTSTART:20241103T060000
END:STANDARD
BEGIN:DAYLIGHT
TZOFFSETFROM:-0500
TZOFFSETTO:-0400
TZNAME:EDT
DTSTART:20250309T070000
END:DAYLIGHT
BEGIN:STANDARD
TZOFFSETFROM:-0400
TZOFFSETTO:-0500
TZNAME:EST
DTSTART:20251102T060000
END:STANDARD
BEGIN:DAYLIGHT
TZOFFSETFROM:-0500
TZOFFSETTO:-0400
TZNAME:EDT
DTSTART:20260308T070000
END:DAYLIGHT
BEGIN:STANDARD
TZOFFSETFROM:-0400
TZOFFSETTO:-0500
TZNAME:EST
DTSTART:20261101T060000
END:STANDARD
END:VTIMEZONE
BEGIN:VEVENT
DTSTART;TZID=America/Detroit:20250607T140000
DTEND;TZID=America/Detroit:20250607T170000
DTSTAMP:20260419T175828
CREATED:20250526T141537Z
LAST-MODIFIED:20250526T141537Z
UID:103-1749304800-1749315600@indivisiblecentralmichigan.org
SUMMARY:Pop Up Pride in the Park: Mt. Pleasant Pride Festival
DESCRIPTION:Don’t forget – June is Pride Month! Mt. Pleasant’s Pride Festival will be Saturday\, June 7th\, from 2-5\, at Broadway Park (on the reservation). For more info\, see  \n\n\n\n\n\n\nRegional Pride Celebrations \n\nMt. Pleasant Pride will be at Broadway Park on the reservation again for the 4th year in a row! EVERYONE is welcome! This event is run by Great Lakes Bay Pride.\n \n\nGreat Lakes Bay Pride writes\n \n“We’re so excited to host the next evolution of our always expanding Pop Up Pride in the Park program that celebrated its third year in June 2024.\n \nJoin us in celebrating\, uplifting\, and advocating for our regional 2SLGBTQIA+ community at the Mount Pleasant Pride Festival at Broadway Park in Mount Pleasant. We’re excited to welcome food trucks\, a Two-Spirit presentation\, local 2SLGBTQIA+ vendors\, and community resources!”\n \n 
URL:https://indivisiblecentralmichigan.org/event/pop-up-pride-in-the-park-mt-pleasant-pride-festival/
LOCATION:Broadway Park\, Broadway Park\, 2\, 2451 Nish Na Be Anong* Rd\,\, MI\, 48858\, United States
CATEGORIES:Community Events,Pride
END:VEVENT
END:VCALENDAR