BEGIN:VCALENDAR
VERSION:2.0
PRODID:-//Indivisible Central Michigan - ECPv6.15.18//NONSGML v1.0//EN
CALSCALE:GREGORIAN
METHOD:PUBLISH
X-WR-CALNAME:Indivisible Central Michigan
X-ORIGINAL-URL:https://indivisiblecentralmichigan.org
X-WR-CALDESC:Events for Indivisible Central Michigan
REFRESH-INTERVAL;VALUE=DURATION:PT1H
X-Robots-Tag:noindex
X-PUBLISHED-TTL:PT1H
BEGIN:VTIMEZONE
TZID:America/Detroit
BEGIN:DAYLIGHT
TZOFFSETFROM:-0500
TZOFFSETTO:-0400
TZNAME:EDT
DTSTART:20240310T070000
END:DAYLIGHT
BEGIN:STANDARD
TZOFFSETFROM:-0400
TZOFFSETTO:-0500
TZNAME:EST
DTSTART:20241103T060000
END:STANDARD
BEGIN:DAYLIGHT
TZOFFSETFROM:-0500
TZOFFSETTO:-0400
TZNAME:EDT
DTSTART:20250309T070000
END:DAYLIGHT
BEGIN:STANDARD
TZOFFSETFROM:-0400
TZOFFSETTO:-0500
TZNAME:EST
DTSTART:20251102T060000
END:STANDARD
BEGIN:DAYLIGHT
TZOFFSETFROM:-0500
TZOFFSETTO:-0400
TZNAME:EDT
DTSTART:20260308T070000
END:DAYLIGHT
BEGIN:STANDARD
TZOFFSETFROM:-0400
TZOFFSETTO:-0500
TZNAME:EST
DTSTART:20261101T060000
END:STANDARD
END:VTIMEZONE
BEGIN:VEVENT
DTSTART;TZID=America/Detroit:20250605T183000
DTEND;TZID=America/Detroit:20250605T193000
DTSTAMP:20260420T025936
CREATED:20250526T132334Z
LAST-MODIFIED:20250526T132334Z
UID:85-1749148200-1749151800@indivisiblecentralmichigan.org
SUMMARY:Indivisible CM Membership Meeting
DESCRIPTION:This is our regular membership meeting. We meet on Thursday every other week to discuss upcoming events\, next steps\, and get feedback from our valued members. \nDuring this week’s meeting\, we’ll be making signs for the upcoming “No Kings” rally on June 14th. Bring your art supplies!
URL:https://indivisiblecentralmichigan.org/event/indivisible-cm-membership-meeting/
LOCATION:Veterans Memorial Library\, 301 S. University Ave\, Mount Pleasant\, MI\, 48858\, United States
CATEGORIES:Membership Meeting
ORGANIZER;CN="Indivisible Central MI":MAILTO:indivisiblemp@gmail.com
END:VEVENT
END:VCALENDAR