BEGIN:VCALENDAR
VERSION:2.0
PRODID:-//Indivisible Central Michigan - ECPv6.15.18//NONSGML v1.0//EN
CALSCALE:GREGORIAN
METHOD:PUBLISH
X-WR-CALNAME:Indivisible Central Michigan
X-ORIGINAL-URL:https://indivisiblecentralmichigan.org
X-WR-CALDESC:Events for Indivisible Central Michigan
REFRESH-INTERVAL;VALUE=DURATION:PT1H
X-Robots-Tag:noindex
X-PUBLISHED-TTL:PT1H
BEGIN:VTIMEZONE
TZID:America/Detroit
BEGIN:DAYLIGHT
TZOFFSETFROM:-0500
TZOFFSETTO:-0400
TZNAME:EDT
DTSTART:20240310T070000
END:DAYLIGHT
BEGIN:STANDARD
TZOFFSETFROM:-0400
TZOFFSETTO:-0500
TZNAME:EST
DTSTART:20241103T060000
END:STANDARD
BEGIN:DAYLIGHT
TZOFFSETFROM:-0500
TZOFFSETTO:-0400
TZNAME:EDT
DTSTART:20250309T070000
END:DAYLIGHT
BEGIN:STANDARD
TZOFFSETFROM:-0400
TZOFFSETTO:-0500
TZNAME:EST
DTSTART:20251102T060000
END:STANDARD
BEGIN:DAYLIGHT
TZOFFSETFROM:-0500
TZOFFSETTO:-0400
TZNAME:EDT
DTSTART:20260308T070000
END:DAYLIGHT
BEGIN:STANDARD
TZOFFSETFROM:-0400
TZOFFSETTO:-0500
TZNAME:EST
DTSTART:20261101T060000
END:STANDARD
BEGIN:DAYLIGHT
TZOFFSETFROM:-0500
TZOFFSETTO:-0400
TZNAME:EDT
DTSTART:20270314T070000
END:DAYLIGHT
BEGIN:STANDARD
TZOFFSETFROM:-0400
TZOFFSETTO:-0500
TZNAME:EST
DTSTART:20271107T060000
END:STANDARD
END:VTIMEZONE
BEGIN:VEVENT
DTSTART;TZID=America/Detroit:20260409T183000
DTEND;TZID=America/Detroit:20260409T193000
DTSTAMP:20260419T115721
CREATED:20260111T195624Z
LAST-MODIFIED:20260328T031432Z
UID:543-1775759400-1775763000@indivisiblecentralmichigan.org
SUMMARY:Indivisible Meeting - Library Annex
DESCRIPTION:All are welcome! This is our bi-monthly member meeting. We will again be collecting shelf-stable food items for our local Little Free Pantries. Some of our neighbors who use the Little Free Pantries have expressed a wish for beverages to be included in the pantries. The main topic of this meeting will be finalized soon. \n 
URL:https://indivisiblecentralmichigan.org/event/indivisible-meeting-library-annex-7/
LOCATION:Veterans Memorial Library\, 301 S. University Ave\, Mount Pleasant\, MI\, 48858\, United States
CATEGORIES:Indivisible Event,Membership Meeting
ORGANIZER;CN="Indivisible Central MI":MAILTO:indivisiblemp@gmail.com
END:VEVENT
BEGIN:VEVENT
DTSTART;TZID=America/Detroit:20260326T183000
DTEND;TZID=America/Detroit:20260326T193000
DTSTAMP:20260419T115721
CREATED:20260111T195539Z
LAST-MODIFIED:20260313T005455Z
UID:541-1774549800-1774553400@indivisiblecentralmichigan.org
SUMMARY:Indivisible Meeting - Library Annex
DESCRIPTION:All are welcome! This is our bi-monthly member meeting. Scheduled for this evening is Ben Ambrose\, a candidate for Michigan District 2. He is running as a democrat for the opportunity to oppose John Moolenaar in the November election. Bring any questions you might have. \n 
URL:https://indivisiblecentralmichigan.org/event/indivisible-meeting-library-annex-6/
LOCATION:Veterans Memorial Library\, 301 S. University Ave\, Mount Pleasant\, MI\, 48858\, United States
CATEGORIES:Indivisible Event,Membership Meeting
ORGANIZER;CN="Indivisible Central MI":MAILTO:indivisiblemp@gmail.com
END:VEVENT
BEGIN:VEVENT
DTSTART;TZID=America/Detroit:20260312T183000
DTEND;TZID=America/Detroit:20260312T193000
DTSTAMP:20260419T115721
CREATED:20260111T195501Z
LAST-MODIFIED:20260312T014100Z
UID:539-1773340200-1773343800@indivisiblecentralmichigan.org
SUMMARY:Indivisible Meeting - Library Annex
DESCRIPTION:All are welcome! This is our bi-monthly member meeting. Scheduled for this evening is a presentation by ICM’s Safety Committee in preparation for the March 28th No Kings event. Bring any questions you might have. We will also enjoy songs from the Good Trouble Resistance singers. Come ready to sing along! \n  \n  \n1 \n 
URL:https://indivisiblecentralmichigan.org/event/indivisible-meeting-library-annex-5/
LOCATION:Veterans Memorial Library\, 301 S. University Ave\, Mount Pleasant\, MI\, 48858\, United States
CATEGORIES:Indivisible Event,Membership Meeting
ORGANIZER;CN="Indivisible Central MI":MAILTO:indivisiblemp@gmail.com
END:VEVENT
BEGIN:VEVENT
DTSTART;TZID=America/Detroit:20260226T183000
DTEND;TZID=America/Detroit:20260226T193000
DTSTAMP:20260419T115721
CREATED:20260111T195411Z
LAST-MODIFIED:20260111T195411Z
UID:537-1772130600-1772134200@indivisiblecentralmichigan.org
SUMMARY:Indivisible Meeting - Library Annex
DESCRIPTION:All are welcome! This is our bi-monthly member meeting. \nThe agenda for this meeting includes a conversation with Clyde Welford\, Democratic candidate for Michigan Congressional District 2 hoping to unseat John Moolenaar in the fall. \nClyde will talk for 15-20 minutes about his plans and platform and then we’ll be able to ask questions. We’ll have a scorecard so you can take notes on how well his priorities align to yours.
URL:https://indivisiblecentralmichigan.org/event/indivisible-meeting-library-annex-4/
LOCATION:Veterans Memorial Library\, 301 S. University Ave\, Mount Pleasant\, MI\, 48858\, United States
CATEGORIES:Indivisible Event,Membership Meeting
ORGANIZER;CN="Indivisible Central MI":MAILTO:indivisiblemp@gmail.com
END:VEVENT
BEGIN:VEVENT
DTSTART;TZID=America/Detroit:20260212T183000
DTEND;TZID=America/Detroit:20260212T193000
DTSTAMP:20260419T115721
CREATED:20260111T195203Z
LAST-MODIFIED:20260111T195203Z
UID:535-1770921000-1770924600@indivisiblecentralmichigan.org
SUMMARY:Indivisible Meeting - Library Annex
DESCRIPTION:All are welcome! This is our bi-monthly member meeting. \nThe agenda for this meeting includes a visit from the ACLU of Michigan. They will discuss their activities and plans. Please bring questions for them.
URL:https://indivisiblecentralmichigan.org/event/indivisible-meeting-library-annex-3/
LOCATION:Veterans Memorial Library\, 301 S. University Ave\, Mount Pleasant\, MI\, 48858\, United States
CATEGORIES:Indivisible Event,Membership Meeting
ORGANIZER;CN="Indivisible Central MI":MAILTO:indivisiblemp@gmail.com
END:VEVENT
BEGIN:VEVENT
DTSTART;TZID=America/Detroit:20250605T183000
DTEND;TZID=America/Detroit:20250605T193000
DTSTAMP:20260419T115721
CREATED:20250526T132334Z
LAST-MODIFIED:20250526T132334Z
UID:85-1749148200-1749151800@indivisiblecentralmichigan.org
SUMMARY:Indivisible CM Membership Meeting
DESCRIPTION:This is our regular membership meeting. We meet on Thursday every other week to discuss upcoming events\, next steps\, and get feedback from our valued members. \nDuring this week’s meeting\, we’ll be making signs for the upcoming “No Kings” rally on June 14th. Bring your art supplies!
URL:https://indivisiblecentralmichigan.org/event/indivisible-cm-membership-meeting/
LOCATION:Veterans Memorial Library\, 301 S. University Ave\, Mount Pleasant\, MI\, 48858\, United States
CATEGORIES:Membership Meeting
ORGANIZER;CN="Indivisible Central MI":MAILTO:indivisiblemp@gmail.com
END:VEVENT
END:VCALENDAR